BEGIN:VCALENDAR
VERSION:2.0
PRODID:-//La Paroisse de Poissy - ECPv5.16.4.1//NONSGML v1.0//EN
CALSCALE:GREGORIAN
METHOD:PUBLISH
X-WR-CALNAME:La Paroisse de Poissy
X-ORIGINAL-URL:https://paroisse-poissy.com
X-WR-CALDESC:Évènements pour La Paroisse de Poissy
BEGIN:VTIMEZONE
TZID:Europe/Paris
BEGIN:DAYLIGHT
TZOFFSETFROM:+0100
TZOFFSETTO:+0200
TZNAME:CEST
DTSTART:20240331T010000
END:DAYLIGHT
BEGIN:STANDARD
TZOFFSETFROM:+0200
TZOFFSETTO:+0100
TZNAME:CET
DTSTART:20241027T010000
END:STANDARD
TZID:UTC
BEGIN:STANDARD
TZOFFSETFROM:+0000
TZOFFSETTO:+0000
TZNAME:UTC
DTSTART:20240101T000000
END:STANDARD
END:VTIMEZONE
BEGIN:VEVENT
DTSTART;VALUE=DATE:20241021
DTEND;VALUE=DATE:20241104
DTSTAMP:20260425T053319
CREATED:20241020T204440Z
LAST-MODIFIED:20241020T204440Z
UID:17289-1729468800-1730678399@paroisse-poissy.com
SUMMARY:Permanences des prêtres et horaires de l'accueil
DESCRIPTION:Horaires de l’accueil au presbytère : les mardis\, jeudis et samedi de 9h30 à 12h \nPermanences des prêtres : Pas de permanence de prêtres les samedis 19\, 26 oct. et 2 nov.de 10h30 à 12h au presbytère. \nLes permanences des mercredis 23 et 30 de 18h/19h à la collégiale et du vendredi 25 de 18h à 19h30 au presbytère sont maintenues (pas de permanence le vendredi 1er novembre)
URL:https://paroisse-poissy.com/evenement/permanences-des-pretres-et-horaires-de-laccueil/
END:VEVENT
BEGIN:VEVENT
DTSTART;VALUE=DATE:20241101
DTEND;VALUE=DATE:20241102
DTSTAMP:20260425T053319
CREATED:20241004T205026Z
LAST-MODIFIED:20241014T205614Z
UID:17141-1730419200-1730505599@paroisse-poissy.com
SUMMARY:Messes de la Toussaint
DESCRIPTION:Toussaint\, vendredi 1er novembre : \n10h st Nicolas de Villennes \n10h30 et 18h30 collégiale \n11h30 St Louis de Beauregard. \nLe jour des défunts samedi 2 novembre : Messe à 10h30 à la collégiale. \nAttention : la messe de 18h à ste Anne le 2 novembre est la messe anticipée du dimanche et non celle des Défunts
URL:https://paroisse-poissy.com/evenement/messes-de-la-toussaint-2/
END:VEVENT
BEGIN:VEVENT
DTSTART;TZID=UTC:20241101T193000
DTEND;TZID=UTC:20241101T220000
DTSTAMP:20260425T053319
CREATED:20221208T223150Z
LAST-MODIFIED:20240906T115434Z
UID:16791-1730489400-1730498400@paroisse-poissy.com
SUMMARY:Groupe jeunes pros
DESCRIPTION:vendredi soir 19h30 au presbytère\n\n\n\n\n\n\n> En savoir plus sur ce groupe
URL:https://paroisse-poissy.com/evenement/groupe-jeunes-pros-25/
LOCATION:Presbytère de Poissy\, 14\, avenue du Cep\, Poissy\, 78300\, France
CATEGORIES:Jeunes Pro
ATTACH;FMTTYPE=image/png:https://paroisse-poissy.com/wp-content/uploads/2023/01/Groupe-jeunes-pros-Couverture-Facebook-e1748459923711.png
END:VEVENT
END:VCALENDAR