BEGIN:VCALENDAR
VERSION:2.0
PRODID:-//La Paroisse de Poissy - ECPv5.16.4.1//NONSGML v1.0//EN
CALSCALE:GREGORIAN
METHOD:PUBLISH
X-WR-CALNAME:La Paroisse de Poissy
X-ORIGINAL-URL:https://paroisse-poissy.com
X-WR-CALDESC:Évènements pour La Paroisse de Poissy
BEGIN:VTIMEZONE
TZID:Europe/Paris
BEGIN:DAYLIGHT
TZOFFSETFROM:+0100
TZOFFSETTO:+0200
TZNAME:CEST
DTSTART:20240331T010000
END:DAYLIGHT
BEGIN:STANDARD
TZOFFSETFROM:+0200
TZOFFSETTO:+0100
TZNAME:CET
DTSTART:20241027T010000
END:STANDARD
END:VTIMEZONE
BEGIN:VEVENT
DTSTART;VALUE=DATE:20241021
DTEND;VALUE=DATE:20241104
DTSTAMP:20260425T015000
CREATED:20241020T204440Z
LAST-MODIFIED:20241020T204440Z
UID:17289-1729468800-1730678399@paroisse-poissy.com
SUMMARY:Permanences des prêtres et horaires de l'accueil
DESCRIPTION:Horaires de l’accueil au presbytère : les mardis\, jeudis et samedi de 9h30 à 12h \nPermanences des prêtres : Pas de permanence de prêtres les samedis 19\, 26 oct. et 2 nov.de 10h30 à 12h au presbytère. \nLes permanences des mercredis 23 et 30 de 18h/19h à la collégiale et du vendredi 25 de 18h à 19h30 au presbytère sont maintenues (pas de permanence le vendredi 1er novembre)
URL:https://paroisse-poissy.com/evenement/permanences-des-pretres-et-horaires-de-laccueil/
END:VEVENT
BEGIN:VEVENT
DTSTART;VALUE=DATE:20241103
DTEND;VALUE=DATE:20241104
DTSTAMP:20260425T015000
CREATED:20241020T204229Z
LAST-MODIFIED:20241020T204322Z
UID:17287-1730592000-1730678399@paroisse-poissy.com
SUMMARY:Messes du We
DESCRIPTION:Dimanche 3 novembre : \n\nSamedi : 18h à l’église Ste Anne (messe anticipée)\nDimanche :\n\n10h00 St Nicolas de Villennes \n10h30 et 18h30 à la Collégiale N.D. \n11h30 St Louis de Beauregard
URL:https://paroisse-poissy.com/evenement/messes-du-we/
END:VEVENT
BEGIN:VEVENT
DTSTART;TZID=Europe/Paris:20241103T120000
DTEND;TZID=Europe/Paris:20241103T120000
DTSTAMP:20260425T015000
CREATED:20240904T055448Z
LAST-MODIFIED:20241007T212403Z
UID:17146-1730635200-1730635200@paroisse-poissy.com
SUMMARY:Les déjeuners du dimanche
DESCRIPTION:Bonjour\, \nnous vous attendons avec plaisir le premier dimanche du mois pour les déjeuners du dimanche au presbytère\, 14 avenue du Cep.\nRDV donc ce dimanche 3 novembre à 12h00.\nChacun apporte si possible un élément du repas à partager.\nA dimanche ! \nPS : Merci d’en parler aux personnes intéressées qui n’ont pas de portable et ne reçoivent donc pas ce rappel. \nL’équipe du RESEAU\nreseau.poissy@gmai.com\n06 22 26 88 08
URL:https://paroisse-poissy.com/evenement/les-dejeuners-du-dimanche-2/
LOCATION:Salle du Cep\, rdc du Presbytère\, 14 avenue du Cep\, Poissy\, 78300\, France
CATEGORIES:Réseau,Vie fraternelle
ATTACH;FMTTYPE=image/jpeg:https://paroisse-poissy.com/wp-content/uploads/2021/02/Dejeuner-reseau.jpeg
END:VEVENT
END:VCALENDAR