BEGIN:VCALENDAR
VERSION:2.0
PRODID:-//La Paroisse de Poissy - ECPv5.16.4.1//NONSGML v1.0//EN
CALSCALE:GREGORIAN
METHOD:PUBLISH
X-WR-CALNAME:La Paroisse de Poissy
X-ORIGINAL-URL:https://paroisse-poissy.com
X-WR-CALDESC:Évènements pour La Paroisse de Poissy
BEGIN:VTIMEZONE
TZID:UTC
BEGIN:STANDARD
TZOFFSETFROM:+0000
TZOFFSETTO:+0000
TZNAME:UTC
DTSTART:20240101T000000
END:STANDARD
END:VTIMEZONE
BEGIN:VEVENT
DTSTART;TZID=UTC:20241110T103000
DTEND;TZID=UTC:20241110T103000
DTSTAMP:20260424T133330
CREATED:20221024T221508Z
LAST-MODIFIED:20241109T115731Z
UID:17400-1731234600-1731234600@paroisse-poissy.com
SUMMARY:Messe de la Saint-Hubert
DESCRIPTION:Messe de la Saint-Hubert\n\n\n\nCollégiale Notre-Dame de Poissy \nDIMANCHE10 NOVEMBRE 2024à 10h30 \nAvec les Sonneursde trompes de chassedu Rallye Vau-Vent
URL:https://paroisse-poissy.com/evenement/messe-de-la-saint-hubert-copie/
LOCATION:Collégiale de Poissy\, rue de l'église\, Poissy\, 78300
ATTACH;FMTTYPE=image/jpeg:https://paroisse-poissy.com/wp-content/uploads/2022/10/sonneurs-poissy.jpg
END:VEVENT
END:VCALENDAR