BEGIN:VCALENDAR
VERSION:2.0
PRODID:-//La Paroisse de Poissy - ECPv5.16.4.1//NONSGML v1.0//EN
CALSCALE:GREGORIAN
METHOD:PUBLISH
X-WR-CALNAME:La Paroisse de Poissy
X-ORIGINAL-URL:https://paroisse-poissy.com
X-WR-CALDESC:Évènements pour La Paroisse de Poissy
BEGIN:VTIMEZONE
TZID:Europe/Paris
BEGIN:DAYLIGHT
TZOFFSETFROM:+0100
TZOFFSETTO:+0200
TZNAME:CEST
DTSTART:20240331T010000
END:DAYLIGHT
BEGIN:STANDARD
TZOFFSETFROM:+0200
TZOFFSETTO:+0100
TZNAME:CET
DTSTART:20241027T010000
END:STANDARD
END:VTIMEZONE
BEGIN:VEVENT
DTSTART;TZID=Europe/Paris:20241114T203000
DTEND;TZID=Europe/Paris:20241114T220000
DTSTAMP:20260424T065822
CREATED:20200921T080106Z
LAST-MODIFIED:20240910T221609Z
UID:16868-1731616200-1731621600@paroisse-poissy.com
SUMMARY:Groupe d’oraison de Notre-Dame de Vie
DESCRIPTION:Le thème de l’année 2024-2025:\nLa Personne et la mission de l’Esprit Saint dans l’Eglise \n– Rencontres le jeudi de 20h30 à 22h à l’église Saint Louis de Beauregard les 10 octobre\, 14 novembre\, 12 décembre\, 9 janvier\, 13 février\, 13 mars\, 10 avril\, 15 mai\, 12 juin. \nJeudi 10 octobre             Esprit Saint et harmonie des cœurs. (Pape François\, Homélie de Pentecôte\,mai 2013 \nJeudi 14 novembre         « Cherche le tout. » (Pape François\, Homélie de Pentecôte\, mai 2021) \nJeudi 12 décembre          Qui est l’Esprit Saint ? (Jean-Paul II\, Encyclique Dominum vivificantem § 3-7) \nJeudi 9 janvier                 L’esprit d’Elie. (P. Marie-Eugène  Je veux voir Dieu 394-398) \nJeudi 13 février               La prière de Jésus. (CEC § 2598-2606) \nJeudi 13 mars                  L’Esprit Saint vient affermir l’homme intérieur. (Jean-Paul II\, Encyclique Dominum vivificantem § 64-66) \nJeudi 10 avril                   La séquence de la Pentecôte. Veni Sancte Spiritus. (Jean-Paul II\, EncycliqueDominum vivificantem § 67) \nJeudi 15 mai                     La prière et l’Esprit Saint. (Père Matta El Maskine\, Conseils pour la prière. Parole et Silence\, 2019\, p. 12-15) \nJeudi 12 juin                     Joie de l’intimité avec le Seigneur. (P. Marie-Eugène. Heureux l’apôtre uni à l’Esprit Saint\, Ed. du Carmel\, 2024\, p. 153-162)
URL:https://paroisse-poissy.com/evenement/groupe-doraison-de-notre-dame-de-vie-34/
LOCATION:Eglise Saint-Louis de Beauregard\, 30 avenue du Maréchal Lyautey\, Poissy\, 78300
CATEGORIES:Groupe ND de Vie
ATTACH;FMTTYPE=image/jpeg:https://paroisse-poissy.com/wp-content/uploads/2019/02/hand-book-religion-cross-christian-security-673169-pxhere.com_.jpg
ORGANIZER;CN="Laurence%20LE%20GRIEL":MAILTO:laurence.le.griel@gmail.com
END:VEVENT
BEGIN:VEVENT
DTSTART;TZID=Europe/Paris:20241114T203000
DTEND;TZID=Europe/Paris:20241114T230000
DTSTAMP:20260424T065822
CREATED:20241012T121904Z
LAST-MODIFIED:20241012T121904Z
UID:17229-1731616200-1731625200@paroisse-poissy.com
SUMMARY:Conférence "Puisque vous avez décidé de vous aimer..." par le Père François Potez
DESCRIPTION:✝️✝️Conférence pour les jeunes mariés✝️✝️\n\n\n \n\n\n📆 Le 14 novembre prochain à 20H30\, nous vous donnons rendez-vous à l’Université Ouverte de Versailles au 6 impasse des gendarmes à Versailles pour une conférence de Père François POTEZ basé sur son ouvrage « Puisque vous avez décidé de vous aimer… » qui donne de nombreux et précieux conseils pour les premières années de mariage!\n\n\n \n\n\nL’entrée est libre et il sera possible de faire dédicacer le livre à la fin de la conférence. 📕 \n\n\n \n\n\nUn événement organisé par AFC 78 et le Diocèse de Versailles – Eglise catholique en Yvelines\n\n\n \n\n\nNous vous y attendons nombreux!
URL:https://paroisse-poissy.com/evenement/conference-puisque-vous-avez-decide-de-vous-aimer-par-le-pere-francois-potez/
LOCATION:Université Ouverte de Versailles\, 6 impasse des gendarmes\, Versailles\, 78000\, France
END:VEVENT
END:VCALENDAR