BEGIN:VCALENDAR
VERSION:2.0
PRODID:-//La Paroisse de Poissy - ECPv5.16.4.1//NONSGML v1.0//EN
CALSCALE:GREGORIAN
METHOD:PUBLISH
X-WR-CALNAME:La Paroisse de Poissy
X-ORIGINAL-URL:https://paroisse-poissy.com
X-WR-CALDESC:Évènements pour La Paroisse de Poissy
BEGIN:VTIMEZONE
TZID:Europe/Paris
BEGIN:DAYLIGHT
TZOFFSETFROM:+0100
TZOFFSETTO:+0200
TZNAME:CEST
DTSTART:20240331T010000
END:DAYLIGHT
BEGIN:STANDARD
TZOFFSETFROM:+0200
TZOFFSETTO:+0100
TZNAME:CET
DTSTART:20241027T010000
END:STANDARD
END:VTIMEZONE
BEGIN:VEVENT
DTSTART;TZID=Europe/Paris:20241120T203000
DTEND;TZID=Europe/Paris:20241120T213000
DTSTAMP:20260423T210602
CREATED:20241104T203432Z
LAST-MODIFIED:20241104T203432Z
UID:17361-1732134600-1732138200@paroisse-poissy.com
SUMMARY:Temps de prière pour les hospitaliers de Lourdes
DESCRIPTION:Un temps de prière est organisé ce mercredi 20 novembre à 20h30 à l’église Sainte-Anne de Poissy!
URL:https://paroisse-poissy.com/evenement/temps-de-priere-pour-les-hospitaliers-de-lourdes/
LOCATION:Eglise Sainte-Anne\, 130 Avenue du Maréchal Foch\, POISSY\, 78300\, France
ORGANIZER;CN="Hospitalit%C3%A9%20ND%20de%20Lourdes":MAILTO:hndl@paroisse-poissy.com
END:VEVENT
END:VCALENDAR