BEGIN:VCALENDAR
VERSION:2.0
PRODID:-//La Paroisse de Poissy - ECPv5.16.4.1//NONSGML v1.0//EN
CALSCALE:GREGORIAN
METHOD:PUBLISH
X-WR-CALNAME:La Paroisse de Poissy
X-ORIGINAL-URL:https://paroisse-poissy.com
X-WR-CALDESC:Évènements pour La Paroisse de Poissy
BEGIN:VTIMEZONE
TZID:Europe/Paris
BEGIN:DAYLIGHT
TZOFFSETFROM:+0100
TZOFFSETTO:+0200
TZNAME:CEST
DTSTART:20240331T010000
END:DAYLIGHT
BEGIN:STANDARD
TZOFFSETFROM:+0200
TZOFFSETTO:+0100
TZNAME:CET
DTSTART:20241027T010000
END:STANDARD
END:VTIMEZONE
BEGIN:VEVENT
DTSTART;TZID=Europe/Paris:20241127T203000
DTEND;TZID=Europe/Paris:20241127T203000
DTSTAMP:20260423T095900
CREATED:20241120T223116Z
LAST-MODIFIED:20241120T223116Z
UID:17475-1732739400-1732739400@paroisse-poissy.com
SUMMARY:Conférence  Le rouleau de Marc\,  Cœur juif de l’évangile  par p. Pierre HOFFMANN
DESCRIPTION:  \nConférence  \nLe rouleau de Marc \nCœur juif de l’évangile \npar p. Pierre HOFFMANN \nMercredi 27 novembre 2024 à 20h30 \nSalle des Arts – Maison des Associations \n3\, rue de la République – 78100 Saint-Germain-en-Laye \nEntrée libre- Participation aux frais \n* \nDemande de renseignements : amitiejc.saintgermain@gmail.com \nVisitez notre blog : amitiejudeochretienne78.blogspot.fr \n  \nPrésentation \nLa composition des évangiles n’a pas encore livré tous ses secrets. Mais une certitude est incontournable : leurs concepteurs étaient imprégnés de la foi juive de leur temps. \nUn parcours attentif de l’évangile de Marc\, noyau de Matthieu et de Luc\, fait surgir cette évidence\, et peut apporter du neuf à nos lectures habituelles.
URL:https://paroisse-poissy.com/evenement/conference-le-rouleau-de-marc-coeur-juif-de-levangile-par-p-pierre-hoffmann/
LOCATION:Salle des Arts Maison des Associations\, 3\, rue de la République\, Saint-Germain-en-Laye\, 78100\, France
CATEGORIES:Bible
ORGANIZER;CN="Amiti%C3%A9%20Jud%C3%A9o-chr%C3%A9tienne%20de%20Saint%20Germain%20en%20Laye%20et%20environs":MAILTO:amitiejc.saintgermain@gmail.com
END:VEVENT
END:VCALENDAR