BEGIN:VCALENDAR
VERSION:2.0
PRODID:-//La Paroisse de Poissy - ECPv5.16.4.1//NONSGML v1.0//EN
CALSCALE:GREGORIAN
METHOD:PUBLISH
X-WR-CALNAME:La Paroisse de Poissy
X-ORIGINAL-URL:https://paroisse-poissy.com
X-WR-CALDESC:Évènements pour La Paroisse de Poissy
BEGIN:VTIMEZONE
TZID:Europe/Paris
BEGIN:DAYLIGHT
TZOFFSETFROM:+0100
TZOFFSETTO:+0200
TZNAME:CEST
DTSTART:20250330T010000
END:DAYLIGHT
BEGIN:STANDARD
TZOFFSETFROM:+0200
TZOFFSETTO:+0100
TZNAME:CET
DTSTART:20251026T010000
END:STANDARD
END:VTIMEZONE
BEGIN:VEVENT
DTSTART;TZID=Europe/Paris:20250308T103000
DTEND;TZID=Europe/Paris:20250308T113000
DTSTAMP:20260422T225405
CREATED:20230630T220613Z
LAST-MODIFIED:20240914T201135Z
UID:16918-1741429800-1741433400@paroisse-poissy.com
SUMMARY:Eveil à la foi
DESCRIPTION:
URL:https://paroisse-poissy.com/evenement/eveil-a-la-foi-18/
CATEGORIES:Eveil à la foi
ATTACH;FMTTYPE=image/png:https://paroisse-poissy.com/wp-content/uploads/2023/09/1-1.png
END:VEVENT
END:VCALENDAR