BEGIN:VCALENDAR
VERSION:2.0
PRODID:-//La Paroisse de Poissy - ECPv5.16.4.1//NONSGML v1.0//EN
CALSCALE:GREGORIAN
METHOD:PUBLISH
X-WR-CALNAME:La Paroisse de Poissy
X-ORIGINAL-URL:https://paroisse-poissy.com
X-WR-CALDESC:Évènements pour La Paroisse de Poissy
BEGIN:VTIMEZONE
TZID:Europe/Paris
BEGIN:DAYLIGHT
TZOFFSETFROM:+0100
TZOFFSETTO:+0200
TZNAME:CEST
DTSTART:20230326T010000
END:DAYLIGHT
BEGIN:STANDARD
TZOFFSETFROM:+0200
TZOFFSETTO:+0100
TZNAME:CET
DTSTART:20231029T010000
END:STANDARD
END:VTIMEZONE
BEGIN:VEVENT
DTSTART;TZID=Europe/Paris:20230404T200000
DTEND;TZID=Europe/Paris:20230404T200000
DTSTAMP:20260423T053142
CREATED:20230319T210649Z
LAST-MODIFIED:20230319T210649Z
UID:13929-1680638400-1680638400@paroisse-poissy.com
SUMMARY:Messe Chrismale
DESCRIPTION:Mardi 4 avril messe chrismale à 20h cathédrale de Versailles
URL:https://paroisse-poissy.com/evenement/messe-chrismale-3/
LOCATION:Cathédrale de Versailles\, 4 Place Saint-Louis\, VERSAILLES\, 78000\, France
CATEGORIES:Célébration
ATTACH;FMTTYPE=image/jpeg:https://paroisse-poissy.com/wp-content/uploads/2019/03/messe-chrismale-2018.jpg
END:VEVENT
END:VCALENDAR