BEGIN:VCALENDAR
VERSION:2.0
PRODID:-//La Paroisse de Poissy - ECPv5.16.4.1//NONSGML v1.0//EN
CALSCALE:GREGORIAN
METHOD:PUBLISH
X-WR-CALNAME:La Paroisse de Poissy
X-ORIGINAL-URL:https://paroisse-poissy.com
X-WR-CALDESC:Évènements pour La Paroisse de Poissy
BEGIN:VTIMEZONE
TZID:Europe/Paris
BEGIN:DAYLIGHT
TZOFFSETFROM:+0100
TZOFFSETTO:+0200
TZNAME:CEST
DTSTART:20230326T010000
END:DAYLIGHT
BEGIN:STANDARD
TZOFFSETFROM:+0200
TZOFFSETTO:+0100
TZNAME:CET
DTSTART:20231029T010000
END:STANDARD
END:VTIMEZONE
BEGIN:VEVENT
DTSTART;VALUE=DATE:20230406
DTEND;VALUE=DATE:20230407
DTSTAMP:20260423T020225
CREATED:20230319T211445Z
LAST-MODIFIED:20230326T200019Z
UID:13932-1680739200-1680825599@paroisse-poissy.com
SUMMARY:Sainte Cène
DESCRIPTION:Vous trouverez ici le lien pour vous inscrire pour adorer sur l’un des créneaux de la nuit
URL:https://paroisse-poissy.com/evenement/sainte-cene/
CATEGORIES:Célébration
ATTACH;FMTTYPE=image/jpeg:https://paroisse-poissy.com/wp-content/uploads/2019/03/people-italy-artwork-painting-temple-mural-1338863-pxhere.com_.jpg
END:VEVENT
BEGIN:VEVENT
DTSTART;TZID=Europe/Paris:20230406T073000
DTEND;TZID=Europe/Paris:20230406T073000
DTSTAMP:20260423T020225
CREATED:20230326T200723Z
LAST-MODIFIED:20230326T200723Z
UID:13961-1680766200-1680766200@paroisse-poissy.com
SUMMARY:Office des Ténèbres
DESCRIPTION:
URL:https://paroisse-poissy.com/evenement/office-des-tenebres/
LOCATION:Collégiale de Poissy\, rue de l'église\, Poissy\, 78300
CATEGORIES:Célébration,Prière
END:VEVENT
END:VCALENDAR