BEGIN:VCALENDAR
VERSION:2.0
PRODID:-//La Paroisse de Poissy - ECPv5.16.4.1//NONSGML v1.0//EN
CALSCALE:GREGORIAN
METHOD:PUBLISH
X-WR-CALNAME:La Paroisse de Poissy
X-ORIGINAL-URL:https://paroisse-poissy.com
X-WR-CALDESC:Évènements pour La Paroisse de Poissy
BEGIN:VTIMEZONE
TZID:Europe/Paris
BEGIN:DAYLIGHT
TZOFFSETFROM:+0100
TZOFFSETTO:+0200
TZNAME:CEST
DTSTART:20250330T010000
END:DAYLIGHT
BEGIN:STANDARD
TZOFFSETFROM:+0200
TZOFFSETTO:+0100
TZNAME:CET
DTSTART:20251026T010000
END:STANDARD
END:VTIMEZONE
BEGIN:VEVENT
DTSTART;TZID=Europe/Paris:20250318T203000
DTEND;TZID=Europe/Paris:20250318T220000
DTSTAMP:20260423T004724
CREATED:20250308T234717Z
LAST-MODIFIED:20250318T003238Z
UID:18663-1742329800-1742335200@paroisse-poissy.com
SUMMARY:20h30 Les miracles eucharistiques
DESCRIPTION:Les miracles eucharistiques : quand la science rencontre la Foi (Paroisse Chambourcy) \nConférence proposée par la paroisse de Chambourcy. On pense souvent que la Foi et la science s’opposent\, et si ce n’était pas le cas ?\n20h30 Salle paroissiale de Chambourcy\n36 Grande Rue – 78240 Chambourcy\n(derrière l’église Ste Clotilde)\nEntrée libre\, ouverte à tous\nContact secrétariat paroissial : 01 39 65 31 05\nparoisse.chambourcy.aigremont@gmail.com
URL:https://paroisse-poissy.com/evenement/20h30-les-miracles-eucharistiques-quand-la-science-rencontre-la-foi-paroisse-chambourcy/
END:VEVENT
END:VCALENDAR