BEGIN:VCALENDAR
VERSION:2.0
PRODID:-//La Paroisse de Poissy - ECPv5.16.4.1//NONSGML v1.0//EN
CALSCALE:GREGORIAN
METHOD:PUBLISH
X-WR-CALNAME:La Paroisse de Poissy
X-ORIGINAL-URL:https://paroisse-poissy.com
X-WR-CALDESC:Évènements pour La Paroisse de Poissy
BEGIN:VTIMEZONE
TZID:Europe/Paris
BEGIN:DAYLIGHT
TZOFFSETFROM:+0100
TZOFFSETTO:+0200
TZNAME:CEST
DTSTART:20250330T010000
END:DAYLIGHT
BEGIN:STANDARD
TZOFFSETFROM:+0200
TZOFFSETTO:+0100
TZNAME:CET
DTSTART:20251026T010000
END:STANDARD
END:VTIMEZONE
BEGIN:VEVENT
DTSTART;TZID=Europe/Paris:20250323T093000
DTEND;TZID=Europe/Paris:20250323T123000
DTSTAMP:20260422T110849
CREATED:20241105T103925Z
LAST-MODIFIED:20241105T103925Z
UID:17389-1742722200-1742733000@paroisse-poissy.com
SUMMARY:2nd dimanche d'enseignement pour les futurs mariés
DESCRIPTION:Dans le cadre de la préparation au mariage\, l’ensemble des couples engagés dans le parcours de préparation de ce sacrement se retrouveront à Saint-Louis de Beauregard le 23 mars pour un dimanche d’enseignement suivi par la Messe.
URL:https://paroisse-poissy.com/evenement/2nd-dimanche-denseignement-pour-les-futurs-maries/
CATEGORIES:Couple
END:VEVENT
END:VCALENDAR