BEGIN:VCALENDAR
VERSION:2.0
PRODID:-//La Paroisse de Poissy - ECPv5.16.4.1//NONSGML v1.0//EN
CALSCALE:GREGORIAN
METHOD:PUBLISH
X-WR-CALNAME:La Paroisse de Poissy
X-ORIGINAL-URL:https://paroisse-poissy.com
X-WR-CALDESC:Évènements pour La Paroisse de Poissy
BEGIN:VTIMEZONE
TZID:Europe/Paris
BEGIN:DAYLIGHT
TZOFFSETFROM:+0100
TZOFFSETTO:+0200
TZNAME:CEST
DTSTART:20250330T010000
END:DAYLIGHT
BEGIN:STANDARD
TZOFFSETFROM:+0200
TZOFFSETTO:+0100
TZNAME:CET
DTSTART:20251026T010000
END:STANDARD
END:VTIMEZONE
BEGIN:VEVENT
DTSTART;TZID=Europe/Paris:20250312T203000
DTEND;TZID=Europe/Paris:20250312T220000
DTSTAMP:20260423T133657
CREATED:20250301T133441Z
LAST-MODIFIED:20250301T133631Z
UID:18497-1741811400-1741816800@paroisse-poissy.com
SUMMARY:Conférence Famille\, Source de prospérité
DESCRIPTION:
URL:https://paroisse-poissy.com/evenement/conference-famille-source-de-prosperite/
END:VEVENT
END:VCALENDAR