BEGIN:VCALENDAR
VERSION:2.0
PRODID:-//La Paroisse de Poissy - ECPv5.16.4.1//NONSGML v1.0//EN
CALSCALE:GREGORIAN
METHOD:PUBLISH
X-WR-CALNAME:La Paroisse de Poissy
X-ORIGINAL-URL:https://paroisse-poissy.com
X-WR-CALDESC:Évènements pour La Paroisse de Poissy
BEGIN:VTIMEZONE
TZID:Europe/Paris
BEGIN:DAYLIGHT
TZOFFSETFROM:+0100
TZOFFSETTO:+0200
TZNAME:CEST
DTSTART:20260329T010000
END:DAYLIGHT
BEGIN:STANDARD
TZOFFSETFROM:+0200
TZOFFSETTO:+0100
TZNAME:CET
DTSTART:20261025T010000
END:STANDARD
END:VTIMEZONE
BEGIN:VEVENT
DTSTART;VALUE=DATE:20260425
DTEND;VALUE=DATE:20260501
DTSTAMP:20260421T161512
CREATED:20251208T145535Z
LAST-MODIFIED:20251208T150258Z
UID:20941-1777075200-1777593599@paroisse-poissy.com
SUMMARY:Le pèlerinage diocésain à Lourdes
DESCRIPTION:Le pèlerinage diocésain à Lourdes aura lieu du samedi 25 avril au jeudi 30 avril 2026. Date limite des inscriptions 20 février 2026\nVous pouvez y participer\n\n   en paroisse comme pèlerin valide (ou pèlerin légèrement fragile avec la possibilité de l’aide d’un ange gardien). Renseignements: Fatima GAMITO  06 21 51 32 06   mgamito@sfr.fr\n  à l’Hospitalité comme hospitalier : inscription directe sur le site de l’Hospitalité Notre-Dame de Lourdes du diocèse de Versailles :   https://www.hospitalite-yvelines.org\n\n      Pour plus de renseignements :\n\nDominique Humbert   06 08 40 69 05    famillehumbert@noos.fr\n\n    A l’Hospitalité comme pèlerin fragile ou malade :\n\nContacter Laurence le Griel   06 59 53 73 21     laurence.le.griel@gmail.com
URL:https://paroisse-poissy.com/evenement/le-pelerinage-diocesain-a-lourdes/
CATEGORIES:Hospitalité de Lourdes,Pèlerinage
END:VEVENT
END:VCALENDAR