BEGIN:VCALENDAR
VERSION:2.0
PRODID:-//La Paroisse de Poissy - ECPv5.16.4.1//NONSGML v1.0//EN
CALSCALE:GREGORIAN
METHOD:PUBLISH
X-WR-CALNAME:La Paroisse de Poissy
X-ORIGINAL-URL:https://paroisse-poissy.com
X-WR-CALDESC:Évènements pour La Paroisse de Poissy
BEGIN:VTIMEZONE
TZID:Europe/Paris
BEGIN:DAYLIGHT
TZOFFSETFROM:+0100
TZOFFSETTO:+0200
TZNAME:CEST
DTSTART:20210328T010000
END:DAYLIGHT
BEGIN:STANDARD
TZOFFSETFROM:+0200
TZOFFSETTO:+0100
TZNAME:CET
DTSTART:20211031T010000
END:STANDARD
END:VTIMEZONE
BEGIN:VEVENT
DTSTART;TZID=Europe/Paris:20211218T093000
DTEND;TZID=Europe/Paris:20211218T093000
DTSTAMP:20260419T160544
CREATED:20211127T215542Z
LAST-MODIFIED:20211127T215542Z
UID:10759-1639819800-1639819800@paroisse-poissy.com
SUMMARY:Rencontre à la synagogue de Versailles
DESCRIPTION:Le Service diocésain pour les Relations avec le judaïsme et l’Unité des Chrétiens organise le samedi 18 décembre prochain une rencontre à la synagogue de Versailles. \nRV à la paroisse Ste Jeanne d’Arc (Place Elisabeth Brasseur) à 9h30\,salle Jérusalem (à gauche de l’église) pour un temps d’explication sur le Shabbat puis rencontre à la synagogue. \nInscription obligatoire : aude.delamotte@catholique78.fr
URL:https://paroisse-poissy.com/evenement/rencontre-a-la-synagogue-de-versailles/
CATEGORIES:Réunion
END:VEVENT
END:VCALENDAR