BEGIN:VCALENDAR
VERSION:2.0
PRODID:-//La Paroisse de Poissy - ECPv5.16.4.1//NONSGML v1.0//EN
CALSCALE:GREGORIAN
METHOD:PUBLISH
X-WR-CALNAME:La Paroisse de Poissy
X-ORIGINAL-URL:https://paroisse-poissy.com
X-WR-CALDESC:Évènements pour La Paroisse de Poissy
BEGIN:VTIMEZONE
TZID:Europe/Paris
BEGIN:DAYLIGHT
TZOFFSETFROM:+0100
TZOFFSETTO:+0200
TZNAME:CEST
DTSTART:20210328T010000
END:DAYLIGHT
BEGIN:STANDARD
TZOFFSETFROM:+0200
TZOFFSETTO:+0100
TZNAME:CET
DTSTART:20211031T010000
END:STANDARD
END:VTIMEZONE
BEGIN:VEVENT
DTSTART;TZID=Europe/Paris:20211019T200000
DTEND;TZID=Europe/Paris:20211019T200000
DTSTAMP:20260419T222225
CREATED:20211016T202917Z
LAST-MODIFIED:20211016T202958Z
UID:10373-1634673600-1634673600@paroisse-poissy.com
SUMMARY:Réunion de préparation liturgique de l’Avent et du temps de Noël
DESCRIPTION:Pour tous ceux qui veulent s’impliquer sur la préparation liturgique de l’Avent et du temps de Noël\, dont les célébrations de Noël\, \nréunion mardi 19 octobre à 20h à Saint-Louis.
URL:https://paroisse-poissy.com/evenement/reunion-de-preparation-liturgique-de-lavent-et-du-temps-de-noel/
LOCATION:Eglise Saint-Louis de Beauregard\, 30 avenue du Maréchal Lyautey\, Poissy\, 78300
CATEGORIES:Liturgie
END:VEVENT
END:VCALENDAR