BEGIN:VCALENDAR
VERSION:2.0
PRODID:-//La Paroisse de Poissy - ECPv5.16.4.1//NONSGML v1.0//EN
CALSCALE:GREGORIAN
METHOD:PUBLISH
X-WR-CALNAME:La Paroisse de Poissy
X-ORIGINAL-URL:https://paroisse-poissy.com
X-WR-CALDESC:Évènements pour La Paroisse de Poissy
BEGIN:VTIMEZONE
TZID:Europe/Paris
BEGIN:DAYLIGHT
TZOFFSETFROM:+0100
TZOFFSETTO:+0200
TZNAME:CEST
DTSTART:20230326T010000
END:DAYLIGHT
BEGIN:STANDARD
TZOFFSETFROM:+0200
TZOFFSETTO:+0100
TZNAME:CET
DTSTART:20231029T010000
END:STANDARD
END:VTIMEZONE
BEGIN:VEVENT
DTSTART;TZID=Europe/Paris:20230422T163000
DTEND;TZID=Europe/Paris:20230422T174500
DTSTAMP:20260419T140305
CREATED:20230414T101052Z
LAST-MODIFIED:20230414T102448Z
UID:14184-1682181000-1682185500@paroisse-poissy.com
SUMMARY:Se préparer à recevoir l’effusion de l’Esprit Saint ! 2 Ste Anne
DESCRIPTION:le samedi 22 avril de 16h30 à 17h45 à l’église Ste Anne.
URL:https://paroisse-poissy.com/evenement/se-preparer-a-recevoir-leffusion-de-lesprit-saint-2-ste-anne/
LOCATION:Eglise Sainte-Anne\, 130 Avenue du Maréchal Foch\, POISSY\, 78300\, France
END:VEVENT
END:VCALENDAR