BEGIN:VCALENDAR
VERSION:2.0
PRODID:-//La Paroisse de Poissy - ECPv5.16.4.1//NONSGML v1.0//EN
CALSCALE:GREGORIAN
METHOD:PUBLISH
X-WR-CALNAME:La Paroisse de Poissy
X-ORIGINAL-URL:https://paroisse-poissy.com
X-WR-CALDESC:Évènements pour La Paroisse de Poissy
BEGIN:VTIMEZONE
TZID:Europe/Paris
BEGIN:DAYLIGHT
TZOFFSETFROM:+0100
TZOFFSETTO:+0200
TZNAME:CEST
DTSTART:20230326T010000
END:DAYLIGHT
BEGIN:STANDARD
TZOFFSETFROM:+0200
TZOFFSETTO:+0100
TZNAME:CET
DTSTART:20231029T010000
END:STANDARD
END:VTIMEZONE
BEGIN:VEVENT
DTSTART;TZID=Europe/Paris:20230324T203000
DTEND;TZID=Europe/Paris:20230324T203000
DTSTAMP:20260423T181225
CREATED:20230316T224021Z
LAST-MODIFIED:20230319T162216Z
UID:13892-1679689800-1679689800@paroisse-poissy.com
SUMMARY:Veillée de prière - La joie du pardon
DESCRIPTION:
URL:https://paroisse-poissy.com/evenement/veillee-de-priere-la-joie-du-pardon/
LOCATION:Collégiale de Poissy\, rue de l'église\, Poissy\, 78300
CATEGORIES:Célébration
ATTACH;FMTTYPE=image/png:https://paroisse-poissy.com/wp-content/uploads/2023/03/Veillee-de-priere.png
END:VEVENT
END:VCALENDAR