BEGIN:VCALENDAR
VERSION:2.0
PRODID:-//La Paroisse de Poissy - ECPv5.16.4.1//NONSGML v1.0//EN
CALSCALE:GREGORIAN
METHOD:PUBLISH
X-WR-CALNAME:La Paroisse de Poissy
X-ORIGINAL-URL:https://paroisse-poissy.com
X-WR-CALDESC:Évènements pour La Paroisse de Poissy
BEGIN:VTIMEZONE
TZID:Europe/Paris
BEGIN:DAYLIGHT
TZOFFSETFROM:+0100
TZOFFSETTO:+0200
TZNAME:CEST
DTSTART:20230326T010000
END:DAYLIGHT
BEGIN:STANDARD
TZOFFSETFROM:+0200
TZOFFSETTO:+0100
TZNAME:CET
DTSTART:20231029T010000
END:STANDARD
END:VTIMEZONE
BEGIN:VEVENT
DTSTART;TZID=Europe/Paris:20230324T203000
DTEND;TZID=Europe/Paris:20230324T213000
DTSTAMP:20260423T162559
CREATED:20230319T205621Z
LAST-MODIFIED:20230319T205621Z
UID:13922-1679689800-1679693400@paroisse-poissy.com
SUMMARY:Vocations féminines 18-35 ans
DESCRIPTION:
URL:https://paroisse-poissy.com/evenement/vocations-feminines-18-35-ans/
LOCATION:Chez vous
CATEGORIES:Diocèse,Jeunes,Jeunes Pro
END:VEVENT
END:VCALENDAR